Workbook

Sheet 改造明细
A1: 钢铁厂节能改造 · 三招改造明细（数据联动分步测算）
A3: 改造项目 | B3: 投入（万元） | C3: 月省（万元） | D3: 年省（万元） | E3: 回本（月）
A4: 招1 加热炉风机变频 | B4: =分步测算!B12 -> 12 | C4: =分步测算!B11 -> 1.6898918 | D4: =C4*12 -> 20.278702 | E4: =B4/C4 -> 7.1010462
A5: 招2 除尘风机变频 | B5: =分步测算!B19 -> 30 | C5: =分步测算!B18 -> 1.92 | D5: =C5*12 -> 23.04 | E5: =B5/C5 -> 15.625
A6: 招3 无功补偿（SVG） | B6: =分步测算!B28 -> 18 | C6: =分步测算!B27 -> 1.4625 | D6: =C6*12 -> 17.55 | E6: =B6/C6 -> 12.307692
A7: 合计 | B7: =SUM(B4:B6) -> 60 | C7: =SUM(C4:C6) -> 5.0723918 | D7: =SUM(D4:D6) -> 60.868702 | E7: =B7/C7 -> 11.828739
A9: 注：合计回本=总投入÷总月省（未取整精确值）；年省合计约60.9万，取整口径约60万。

Sheet 分步测算
A1: 钢铁厂节能改造 · 分步测算（黄色单元格为输入项，其余自动计算）
A3: 统一输入
A4: 电价（元/kWh） | B4: 0.62
A6: 招1 加热炉风机变频
A7: 改造前等效运行功率（kW） | B7: 145.6
A8: 月运行小时（h） | B8: 720
A9: 综合节电率 | B9: 0.26
A10: 改造前月电费（万元） | B10: =B7*B8*B4/10000 -> 6.499584
A11: 月省（万元） | B11: =B10*B9 -> 1.6898918
A12: 投入（万元） | B12: 12
A13: 回本（月） | B13: =B12/B11 -> 7.1010462
A15: 招2 除尘风机变频
A16: 改造前月电费（万元） | B16: 8
A17: 综合节电率 | B17: 0.24
A18: 月省（万元） | B18: =B16*B17 -> 1.92
A19: 投入（万元） | B19: 30
A20: 回本（月） | B20: =B19/B18 -> 15.625
A24: 招3 无功补偿（力率治理）
A25: 月电费基数（万元） | B25: 65
A26: 力率调整率差额 | B26: 0.0225
A27: 月省（万元） | B27: =B25*B26 -> 1.4625
A28: 投入（万元） | B28: 18
A29: 回本（月） | B29: =B28/B27 -> 12.307692
A30: 变频损耗假设（用于敏感性） | B30: 0.025
A31: 注：招1/招2 月电费=功率×小时×电价（招2为整值输入）；招3 月省=电费基数×力率调整率差额(2.25%)，以当地供电公司结算单为准。

Sheet 敏感性分析
A1: 敏感性分析（回本月数）
A3: 电价情景 | B3: 0.55元 | C3: 0.62元(基准) | D3: 0.70元
A4: 风机+除尘月省(万元) | B4: =(分步测算!B7*B8*0.55/10000*分步测算!B9)+(分步测算!B16*B17*0.55/10000*分步测算!B18) -> 0.028715615 | C4: =分步测算!B11+分步测算!B18 -> 3.6098918 | D4: =(分步测算!B7*B8*0.7/10000*分步测算!B9)+(分步测算!B16*B17*0.7/10000*分步测算!B18) -> 0.036547147
A5: 综合回本(月) | B5: =60/(B4+分步测算!B27) -> 40.23563 | C5: =60/(C4+分步测算!B27) -> 11.828739 | D5: =60/(D4+分步测算!B27) -> 40.025426
A7: 产量波动情景 | B7: -20% | C7: 基准 | D7: +20%
A8: 综合回本(月) | B8: =60/((C4*0.8)+分步测算!B27) -> 13.791793 | C8: =C5 -> 11.828739 | D8: =60/((C4*1.2)+分步测算!B27) -> 10.354879
A10: 变频损耗情景 | B10: 计损耗 | C10: 基准
A11: 招1节电率 | B11: =分步测算!B9-分步测算!B30 -> 0.235 | C11: =分步测算!B9 -> 0.26
A12: 招1回本(月) | B12: =分步测算!B12/(分步测算!B10*B11) -> 7.8564766 | C12: =分步测算!B13 -> 7.1010462
A14: 注：招3力率差额2.25%不随电价情景变化（按力调电费口径）；产量波动只影响风机类节电量，力率收益按基数计。
A16: 变频损耗假设 | B16: 0.025
